BEGIN:VCALENDAR
VERSION:2.0
PRODID:-//https://historia.uc.cl///NONSGML kigkonsult.se iCalcreator 2.10.15//
METHOD:PUBLISH
BEGIN:VEVENT
UID:20260423T011506UTC-21368nRa9K@https://historia.uc.cl/
DTSTAMP:20260423T011506Z
DESCRIPTION:\nPablo Whipple“Movilidad espacial\, burocracias locales y la c
 onstrucción del sistema judicial en el Perú postcolonial”\n&nbsp\;\nMiérco
 les 20 de abril14.00 horasSala de Usos múltiplesFacultad de Historia\, Geo
 grafía y Ciencia Política (2° piso) https://historia.uc.cl/agenda/calendar
 io/evento/153-seminario-interno-de-investigacion-2022
DTSTART:20220420T140000Z
DTEND:20220420T152000Z
LOCATION:Sala de Usos Múltiples  (Sala de Usos Múltiples\, Facultad de Hist
 oria\, Geografía y Ciencia Política)
SUMMARY:Seminario Interno de Investigación 2022
URL:https://historia.uc.cl/agenda/calendario/evento/153-seminario-interno-d
 e-investigacion-2022
END:VEVENT
BEGIN:VEVENT
UID:20260423T011506UTC-2141R2EAUB@https://historia.uc.cl/
DTSTAMP:20260423T011506Z
DESCRIPTION:&nbsp\;\nBajo el sello de Editorial Universitaria\, nuestro pro
 fesor de Historia UC\, Rafael Gaune\, publica su libro 'Los ojos y las man
 os del jesuita Diego de Rosales\, un retrato editorial entre América y Eur
 opa\, siglo XVII'. Un estudio historio y biográfico que documenta y ensaya
  sobre la vida del autor de la Historia General del Reino de Chile\, obra 
 insigne de la historiografía colonial\, que no llegó a ser publicada\, ind
 agando en documentos inéditos y retratando a la figura del jesuita a travé
 s de una lectura de su humanidad y su obra.\n&nbsp\;\nPara asistir\, inscr
 íbete ACÁ&nbsp\;\nMartes 19 de Abril18:00 hrs.Casa Central de la Universid
 ad de Chile.\n\n&nbsp\;\n&nbsp\; https://historia.uc.cl/agenda/calendario/
 evento/175-lanzamiento-del-libro-los-ojos-y-las-manos-del-jesuita-diego-de
 -rosales
DTSTART:20220419T180000Z
DTEND:20220419T190000Z
LOCATION:Casa Central Universidad de Chile  ()
SUMMARY:Lanzamiento del libro 'Los ojos y las manos del jesuita Diego de Ro
 sales'
URL:https://historia.uc.cl/agenda/calendario/evento/175-lanzamiento-del-lib
 ro-los-ojos-y-las-manos-del-jesuita-diego-de-rosales
END:VEVENT
BEGIN:VEVENT
UID:20260423T011506UTC-2145x6XgEI@https://historia.uc.cl/
DTSTAMP:20260423T011506Z
DESCRIPTION:El CIIR junto a Historia UC les invita al Seminario Deliberació
 n política y dimensión constituyente\, donde participara nuestra profesora
  Francisca de la Maza. \nPara participar\, inscríbete ACÁ&nbsp\;\n&nbsp\;M
 artes 19 de abril\, 13:00 hrs.\nAuditorio de la Facultad de Historia\, Geo
 grafía y Ciencia Política&nbsp\;\n https://historia.uc.cl/agenda/calendari
 o/evento/177-seminario-deliberacion-politica-y-dimension-constituyente
DTSTART:20220419T130000Z
DTEND:20220419T143000Z
LOCATION:Auditorio Facultad de Historia\, Geografía y Ciencia Política  ()
SUMMARY:Seminario Deliberación política y dimensión constituyente.
URL:https://historia.uc.cl/agenda/calendario/evento/177-seminario-deliberac
 ion-politica-y-dimension-constituyente
END:VEVENT
BEGIN:VEVENT
UID:20260423T011506UTC-2149cw0JXD@https://historia.uc.cl/
DTSTAMP:20260423T011506Z
DESCRIPTION:El viernes 22 de abril desde las 10:00 horas\, se realizarán la
 s primeras Jornadas de Postdoctorado en Humanidades de la Pontificia Unive
 rsidad Católica de Chile. Será un espacio de diálogo entre investigadores 
 e investigadoras postdoctorales de la Facultad de Letras\, el Instituto de
  Historia y el Instituto de Estética que se llevará a cabo en la Sala Marc
 ela Oyanedel de la Facultad de Letras (2do piso\, Edificio de Posgrados\, 
 Campus San Joaquín).\n\nParticiparán del Instituto de Historia: Andrea Arm
 ijo\, Patricio Arriagada\, Sylvia Dümmer\,&nbsp\;Sebastían Hernández\,&nbs
 p\;María Fernanda Lanfranco y José Miguel Vidal.&nbsp\;\n&nbsp\;\nOjalá po
 damos&nbsp\;acompañarles&nbsp\;en esta importante actividad. Accede al pro
 grama ACÁ&nbsp\;\n&nbsp\;\n https://historia.uc.cl/agenda/calendario/event
 o/179-jornadas-de-postdoctorado-en-humanidades
DTSTART:20220422T100000Z
DTEND:20220422T140000Z
LOCATION:Sala Marcela Oyanedel de la Facultad de Letras ()
SUMMARY: Jornadas de Postdoctorado en Humanidades 
URL:https://historia.uc.cl/agenda/calendario/evento/179-jornadas-de-postdoc
 torado-en-humanidades
END:VEVENT
END:VCALENDAR
