BEGIN:VCALENDAR
VERSION:2.0
PRODID:-//https://historia.uc.cl///NONSGML kigkonsult.se iCalcreator 2.10.15//
METHOD:PUBLISH
BEGIN:VEVENT
UID:20260422T232544UTC-95332KWDGP@https://historia.uc.cl/
DTSTAMP:20260422T232544Z
DESCRIPTION:\nSeminario Interno de Investigación 2022\nMiércoles 18 de mayo
 :\nRafael Sagredo\n“El americanista J.T. Medina y su&nbsp\;Mapoteca chilen
 a”\n&nbsp\;\nSala de Usos múltiples\, Sala de Usos múltiples\, Facultad de
  Historia\, Geografía y Ciencia Política (2° piso) https://historia.uc.cl/
 agenda/calendario/evento/155-seminario-interno-de-investigacion-2022
DTSTART:20220518T140000Z
DTEND:20220518T152000Z
LOCATION:Sala de Usos Múltiples  (Sala de Usos Múltiples\, Facultad de Hist
 oria\, Geografía y Ciencia Política)
SUMMARY:Seminario Interno de Investigación 2022
URL:https://historia.uc.cl/agenda/calendario/evento/155-seminario-interno-d
 e-investigacion-2022
END:VEVENT
BEGIN:VEVENT
UID:20260422T232544UTC-95390UTAlb@https://historia.uc.cl/
DTSTAMP:20260422T232544Z
DESCRIPTION:Residencias en Historia\nNatalia MilanesioDepartment of History
  | University of Houston\nEl destape. La cultura sexual en la Argentina de
 spués de la dictadura&nbsp\;(Siglo XXI editores\, 2021)\nJueves 19 de mayo
  de 202217:00 horasVía Zoom\nDescarga la introducción del libro ACÁ (genti
 leza de Siglo XXI editores)&nbsp\;\n&nbsp\;\nInscripciones ACÁ&nbsp\;\n&nb
 sp\;\nEl destape fue el fenómeno sociocultural más importante y explosivo 
 en el regreso de la democracia en la Argentina. En los años ochenta\, una 
 avalancha de imágenes y narrativas sexuales explícitas que la dictadura mi
 litar había censurado y prohibido por considerarlas vulgares\, inmorales y
  peligrosas se multiplicaron en los medios\, la cultura y las conversacion
 es cotidianas. Las películas porno soft encabezaron las listas anuales de 
 los films más taquilleros\, las novelas eróticas y los manuales de sexolog
 ía fueron los libros más vendidos\, y el contenido erótico\, el doble sent
 ido y los desnudos inundaron los programas de televisión. &nbsp\; ¿Qué sig
 nificó realmente el destape? ¿Cuánto tuvo de verdadera liberación y recono
 cimiento de derechos (al placer\, a conocer el propio cuerpo y decidir sob
 re él) y cuánto de exitosa estrategia comercial que reproducía estereotipo
 s de género y pautas de la moral tradicional\, como la exaltación de la he
 terosexualidad? Natalia Milanesio reconstruye magistralmente\, y desde una
  perspectiva originalísima\, los años intensos de la transición democrátic
 a. Y revela que hubo muchos destapes: una transformación profunda que se m
 anifestó no solo en la sexualización de los medios de comunicación\, sino 
 también en la forma en que los argentinos comprendían\, discutían y vivían
  su sexualidad. Para demostrarlo\, examina el auge de la sexología y la te
 rapia sexual\, las cartas de lectores y los consultorios sexuales de las r
 evistas\, la campaña por la introducción de la educación sexual en las esc
 uelas\, la expansión de los servicios de planificación familiar y de insti
 tuciones dedicadas a la salud sexual\, y la centralidad de los derechos se
 xuales en la agenda de feministas y activistas gays y lesbianas. &nbsp\; P
 oniendo el foco en los aspectos más disruptivos del destape y también en s
 us límites (la homofobia y la lesbofobia\, la escasa conciencia acerca de 
 la violencia sexual\, la objetivación del cuerpo femenino)\, este libro\, 
 el primero sobre este tema\, cuenta un capítulo imprescindible de la histo
 ria de la sexualidad en el país. Al problematizar los legados del destape\
 , constituye además un aporte fundamental para pensar las luchas del prese
 nte y la cultura sexual actual en la Argentina.\n&nbsp\;\n\n&nbsp\; https:
 //historia.uc.cl/agenda/calendario/evento/191-residencias-en-historia-nata
 lia-milanesio
DTSTART:20220519T170000Z
DTEND:20220519T190000Z
LOCATION:Online ()
SUMMARY:Residencias en Historia: Natalia Milanesio
URL:https://historia.uc.cl/agenda/calendario/evento/191-residencias-en-hist
 oria-natalia-milanesio
END:VEVENT
END:VCALENDAR
