BEGIN:VCALENDAR
VERSION:2.0
PRODID:-//https://historia.uc.cl///NONSGML kigkonsult.se iCalcreator 2.10.15//
METHOD:PUBLISH
BEGIN:VEVENT
UID:20260422T164040UTC-7374IGNaO0@https://historia.uc.cl/
DTSTAMP:20260422T164040Z
DESCRIPTION:\n&nbsp\;\nViernes 24 de junio: \nCamila Rodríguez\n“Mover los 
 corazones: las Misioneras Catequistas de Boroa y su experiencia de evangel
 ización en la Araucanía (1928-1958)”.\n&nbsp\;\nSala de Usos múltiples\, F
 acultad de Historia\, Geografía y Ciencia Política (2° piso)\n10:00 hrs.&n
 bsp\; https://historia.uc.cl/agenda/calendario/evento/139-seminario-intern
 o-de-estudiantes-de-posgrado-2022
DTSTART:20220624T100000Z
DTEND:20220624T113000Z
LOCATION:Sala de Usos Múltiples  (Sala de Usos Múltiples\, Facultad de Hist
 oria\, Geografía y Ciencia Política)
SUMMARY:Seminario Interno de Estudiantes de Posgrado 2022
URL:https://historia.uc.cl/agenda/calendario/evento/139-seminario-interno-d
 e-estudiantes-de-posgrado-2022
END:VEVENT
BEGIN:VEVENT
UID:20260422T164040UTC-73798VOgPr@https://historia.uc.cl/
DTSTAMP:20260422T164040Z
DESCRIPTION:\nSeminario Interno de Investigación 2022\nMiércoles 22 de juni
 o: \nManuel Gárate\n&nbsp\;“Con los pies por delante'. La muerte de August
 o Pinochet vista a través de la caricatura de prensa internacional: Anális
 is de algunos ejemplos (2006-2007)”\n&nbsp\;\nSala de Usos múltiples\, Sal
 a de Usos múltiples\, Facultad de Historia\, Geografía y Ciencia Política 
 (2° piso) https://historia.uc.cl/agenda/calendario/evento/157-seminario-in
 terno-de-investigacion-2022
DTSTART:20220622T140000Z
DTEND:20220622T152000Z
LOCATION:Sala de Usos Múltiples  (Sala de Usos Múltiples\, Facultad de Hist
 oria\, Geografía y Ciencia Política)
SUMMARY:Seminario Interno de Investigación 2022
URL:https://historia.uc.cl/agenda/calendario/evento/157-seminario-interno-d
 e-investigacion-2022
END:VEVENT
END:VCALENDAR
