BEGIN:VCALENDAR
VERSION:2.0
PRODID:-//https://historia.uc.cl///NONSGML kigkonsult.se iCalcreator 2.10.15//
METHOD:PUBLISH
BEGIN:VEVENT
UID:20260422T201026UTC-5931pWXDu8@https://historia.uc.cl/
DTSTAMP:20260422T201026Z
DESCRIPTION:\nSeminario Interno de Investigación 2022\n&nbsp\;\nMiércoles 2
 0 de julio:\nPresentación de proyectos adjudicados en el Concurso Interdis
 ciplinario Interno\n&nbsp\;\nSala de Usos múltiples\, Sala de Usos múltipl
 es\, Facultad de Historia\, Geografía y Ciencia Política (2° piso) https:/
 /historia.uc.cl/agenda/calendario/evento/159-seminario-interno-de-investig
 acion-2022
DTSTART:20220720T140000Z
DTEND:20220720T152000Z
LOCATION:Sala de Usos Múltiples  (Sala de Usos Múltiples\, Facultad de Hist
 oria\, Geografía y Ciencia Política)
SUMMARY:Seminario Interno de Investigación 2022
URL:https://historia.uc.cl/agenda/calendario/evento/159-seminario-interno-d
 e-investigacion-2022
END:VEVENT
BEGIN:VEVENT
UID:20260422T201026UTC-593839D03g@https://historia.uc.cl/
DTSTAMP:20260422T201026Z
DESCRIPTION:ACTIVIDADES10.30 - Bienvenida y&nbsp\;conversación con los prof
 esores&nbsp\;Maria José Cot&nbsp\;y&nbsp\;Claudio Rolle.11.30 - Conversare
 mos con Andrea Muñoz\, Subdirectora de&nbsp\;Asuntos Estudiantiles&nbsp\;d
 e nuestra Facultad\, quien les contará sobre&nbsp\;los apoyos en la formac
 ión integral de los estudiantes de nuestra carrera.12.00 - Visita al Labor
 atorio de Historia Digital donde conversaremos con su encargada\, Nicole L
 arrondo. Luego realizaremos un recorrido por la instalaciones de la Facult
 ad y el Campus San Joaquín a cargo de estudiantes de la carrera de Histori
 a.\n13.00 - Cierre de actividades\nPara participar de las actividades debe
 s inscribirte&nbsp\;AQUÍ\nNos reuniremos al ingreso del Campus San Joaquín
 \, en Vicuña Mackenna 4860 justo en el Cristo de nuestro Campus.\n&nbsp\;
 \n https://historia.uc.cl/agenda/calendario/evento/217-ven-a-ser-novato-a-
 por-un-dia-en-historia
DTSTART:20220720T103000Z
DTEND:20220720T130000Z
LOCATION:Facultad de Historia\, Geografía y Ciencia Política UC ()
SUMMARY:¡Ven a ser novato/a por un día! en Historia
URL:https://historia.uc.cl/agenda/calendario/evento/217-ven-a-ser-novato-a-
 por-un-dia-en-historia
END:VEVENT
BEGIN:VEVENT
UID:20260422T201026UTC-59455eT7uj@https://historia.uc.cl/
DTSTAMP:20260422T201026Z
DESCRIPTION:Seminario de Estudiantes de Magister en Historia UC\nPuedes des
 cargar el resumen de las presentaciones ACÁ&nbsp\;\nLunes 18 y martes 19 d
 e julio10:00 -13:00 hrs.&nbsp\;\nSala Seminario Facultad\nPara asistir\, i
 nscríbete ACÁ&nbsp\;\n&nbsp\;\n https://historia.uc.cl/agenda/calendario/e
 vento/219-seminario-de-estudiantes-de-magister-en-historia-uc
DTSTART:20220718T100000Z
DTEND:20220718T130000Z
LOCATION:Sala Seminario de la Facultad de Historia\, Geografía y Ciencia Po
 lítica ()
SUMMARY:Seminario de estudiantes de Magister en Historia UC
URL:https://historia.uc.cl/agenda/calendario/evento/219-seminario-de-estudi
 antes-de-magister-en-historia-uc
END:VEVENT
BEGIN:VEVENT
UID:20260422T201026UTC-5949JjcMvZ@https://historia.uc.cl/
DTSTAMP:20260422T201026Z
DESCRIPTION:Seminario de Estudiantes de Magister en Historia UC\nPuedes des
 cargar el resumen de las presentaciones&nbsp\;ACÁ&nbsp\;\nLunes 18 y marte
 s 19 de julio10:00 -13:00 hrs.&nbsp\;\nSala Seminario Facultad\nPara asist
 ir\, inscríbete&nbsp\;ACÁ&nbsp\;\n https://historia.uc.cl/agenda/calendari
 o/evento/221-seminario-de-estudiantes-de-magister-en-historia-uc
DTSTART:20220719T100000Z
DTEND:20220719T130000Z
LOCATION:Sala Seminario de la Facultad de Historia\, Geografía y Ciencia Po
 lítica ()
SUMMARY:Seminario de estudiantes de Magister en Historia UC
URL:https://historia.uc.cl/agenda/calendario/evento/221-seminario-de-estudi
 antes-de-magister-en-historia-uc
END:VEVENT
END:VCALENDAR
