BEGIN:VCALENDAR
VERSION:2.0
PRODID:-//https://historia.uc.cl///NONSGML kigkonsult.se iCalcreator 2.10.15//
METHOD:PUBLISH
BEGIN:VEVENT
UID:20260422T201038UTC-6750N4Uf2D@https://historia.uc.cl/
DTSTAMP:20260422T201038Z
DESCRIPTION:\n&nbsp\;\nViernes 29 de julio:\nJosefina Domeyko\n“El ir y vol
 ver de un procurador jesuita: El oficio de Alonso de Ovalle y su gesto de 
 escritura (Chile - Roma\, siglo XVII)”\n&nbsp\;\nSala de Usos múltiples\, 
 Facultad de Historia\, Geografía y Ciencia Política (2° piso)\n10:00 hrs.&
 nbsp\; https://historia.uc.cl/agenda/calendario/evento/141-seminario-inter
 no-de-estudiantes-de-posgrado-2022
DTSTART:20220729T100000Z
DTEND:20220729T113000Z
LOCATION:Sala de Usos Múltiples  (Sala de Usos Múltiples\, Facultad de Hist
 oria\, Geografía y Ciencia Política)
SUMMARY:Seminario Interno de Estudiantes de Posgrado 2022
URL:https://historia.uc.cl/agenda/calendario/evento/141-seminario-interno-d
 e-estudiantes-de-posgrado-2022
END:VEVENT
BEGIN:VEVENT
UID:20260422T201038UTC-6755uZiKwm@https://historia.uc.cl/
DTSTAMP:20260422T201038Z
DESCRIPTION:Defensa pública de la Tesis de Magister del estudiante Leonardo
  Cisternas:\nConstrucción estatal de los archivos en Chile: Soberanía polí
 tica\, prácticas archivísticas y necesidades historiográficas\, 1830-1954
 \n&nbsp\;\nSala Seminario Facultad\nviernes 29 de julio de 2022\, a las 15
 :00 hrs\n&nbsp\;\n https://historia.uc.cl/agenda/calendario/evento/223-def
 ensa-de-magister-de-leonardo-cisternas
DTSTART:20220729T150000Z
DTEND:20220729T163000Z
LOCATION:Sala Seminario de la Facultad de Historia\, Geografía y Ciencia Po
 lítica ()
SUMMARY:Defensa de Magíster de Leonardo Cisternas 
URL:https://historia.uc.cl/agenda/calendario/evento/223-defensa-de-magister
 -de-leonardo-cisternas
END:VEVENT
BEGIN:VEVENT
UID:20260422T201038UTC-6758LzxS8a@https://historia.uc.cl/
DTSTAMP:20260422T201038Z
DESCRIPTION:Defensa pública de la Tesis de Magister del estudiante Matías M
 oreno Durán:\nEl trabajo barbarizado. Explotación y genocidio Selk’nam en 
 Tierra del Fuego\, 1879-1912\n&nbsp\;\nSala Seminario Facultad\nLunes 25 d
 e julio de 2022\, a las 10:00 hrs\n&nbsp\;\n https://historia.uc.cl/agenda
 /calendario/evento/225-defensa-de-magister-de-matias-moreno
DTSTART:20220725T100000Z
DTEND:20220725T113000Z
LOCATION:Sala Seminario de la Facultad de Historia\, Geografía y Ciencia Po
 lítica ()
SUMMARY:Defensa de Magíster de Matías Moreno
URL:https://historia.uc.cl/agenda/calendario/evento/225-defensa-de-magister
 -de-matias-moreno
END:VEVENT
END:VCALENDAR
