BEGIN:VCALENDAR
VERSION:2.0
PRODID:-//https://historia.uc.cl///NONSGML kigkonsult.se iCalcreator 2.10.15//
METHOD:PUBLISH
BEGIN:VEVENT
UID:20260422T132651UTC-2692uxbMzV@https://historia.uc.cl/
DTSTAMP:20260422T132651Z
DESCRIPTION:\n&nbsp\;\nViernes 26 de agosto:\nSofía González\n'Formaciones 
 humanistas: Traducciones del latín y el griego antiguo\, primera mitad del
  siglo XX en Chile'&nbsp\;\n&nbsp\;\nSala de Usos múltiples\, Facultad de 
 Historia\, Geografía y Ciencia Política (2° piso)\n10:00 hrs.&nbsp\; https
 ://historia.uc.cl/agenda/calendario/evento/143-seminario-interno-de-estudi
 antes-de-posgrado-2022
DTSTART:20220826T100000Z
DTEND:20220826T113000Z
LOCATION:Sala de Usos Múltiples  (Sala de Usos Múltiples\, Facultad de Hist
 oria\, Geografía y Ciencia Política)
SUMMARY:Seminario Interno de Estudiantes de Posgrado 2022
URL:https://historia.uc.cl/agenda/calendario/evento/143-seminario-interno-d
 e-estudiantes-de-posgrado-2022
END:VEVENT
BEGIN:VEVENT
UID:20260422T132651UTC-2698WwuPEx@https://historia.uc.cl/
DTSTAMP:20260422T132651Z
DESCRIPTION:\n\nDefensa pública de la Tesis de Magister del estudiante Benj
 amín Concha González&nbsp\;\nIMAGINAR LA DEMOCRACIA EN DICTADURA: LA DISCU
 SIÓN PÚBLICA ENTRE POLÍTICOS SOBRE EL CONCEPTO DE DEMOCRACIA EN CHILE (198
 3-1990)\nSala Seminario Facultad\nViernes 26 de agosto 2022\, a las 15:30 
 hrs\n&nbsp\;\n\n&nbsp\;\n\n https://historia.uc.cl/agenda/calendario/event
 o/229-defensa-de-magister-de-benjamin-concha
DTSTART:20220826T153000Z
DTEND:20220826T173000Z
LOCATION:Sala Seminario de la Facultad de Historia\, Geografía y Ciencia Po
 lítica ()
SUMMARY:Defensa de Magíster de Benjamín Concha 
URL:https://historia.uc.cl/agenda/calendario/evento/229-defensa-de-magister
 -de-benjamin-concha
END:VEVENT
BEGIN:VEVENT
UID:20260422T132651UTC-2702a9TxTx@https://historia.uc.cl/
DTSTAMP:20260422T132651Z
DESCRIPTION:Charla “Mundus est fabula: la invención del fracaso en el&nbsp\
 ;Discurso del Métodode Descartes (1637)”\nIván de los Ríos | Universidad A
 utónoma de Madrid\nRegistrate ACÁ&nbsp\;\nlunes 22 de agosto\n14:00 horasS
 ala de Usos MúltiplesFacultad de Historia\, Geografía y Ciencia Política\n
 &nbsp\; https://historia.uc.cl/agenda/calendario/evento/233-mundus-est-fab
 ula-la-invencion-del-fracaso-en-el-discurso-del-metodo-de-descartes-1637
DTSTART:20220822T140000Z
DTEND:20220822T160000Z
LOCATION:Sala de Usos Múltiples  (Sala de Usos Múltiples\, Facultad de Hist
 oria\, Geografía y Ciencia Política)
SUMMARY:Mundus est fabula: la invención del fracaso en el Discurso del Méto
 do de Descartes (1637)
URL:https://historia.uc.cl/agenda/calendario/evento/233-mundus-est-fabula-l
 a-invencion-del-fracaso-en-el-discurso-del-metodo-de-descartes-1637
END:VEVENT
BEGIN:VEVENT
UID:20260422T132651UTC-2707IOPD9T@https://historia.uc.cl/
DTSTAMP:20260422T132651Z
DESCRIPTION: https://historia.uc.cl/agenda/calendario/evento/237-oportunida
 des-constitucionales-alcances-territoriales
DTSTART:20220824T130000Z
DTEND:20220824T143000Z
LOCATION:Auditorio Facultad de Historia\, Geografía y Ciencia Política  ()
SUMMARY:Oportunidades Constitucionales: Alcances territoriales 
URL:https://historia.uc.cl/agenda/calendario/evento/237-oportunidades-const
 itucionales-alcances-territoriales
END:VEVENT
END:VCALENDAR
