BEGIN:VCALENDAR
VERSION:2.0
PRODID:-//https://historia.uc.cl///NONSGML kigkonsult.se iCalcreator 2.10.15//
METHOD:PUBLISH
BEGIN:VEVENT
UID:20260424T171909UTC-7402xMDM10@https://historia.uc.cl/
DTSTAMP:20260424T171909Z
DESCRIPTION:Charla Plurinacionalidad y Control Territorial: las dos vías ha
 cia la Autodeterminación del movimiento mapuche 2001-2021\nExpone: Fernand
 o Pairican&nbsp\;Doctor en Historia\, USACH&nbsp\;Académico de la Escuela 
 de Antropología UC e investigador CIIR&nbsp\;\nMiércoles 13 de octubre14:0
 0 - 15:20 hrs. Vía Zoom\nINSCRÍBETE ACÁ&nbsp\;\n https://historia.uc.cl/ag
 enda/calendario/evento/47-plurinacionalidad-y-control-territorial-las-dos-
 vias-hacia-la-autodeterminacion-del-movimiento-mapuche-2001-2021
DTSTART:20211013T140000Z
DTEND:20211013T152000Z
LOCATION:Online ()
SUMMARY:Plurinacionalidad y Control Territorial: las dos vías hacia la Auto
 determinación del movimiento mapuche 2001-2021
URL:https://historia.uc.cl/agenda/calendario/evento/47-plurinacionalidad-y-
 control-territorial-las-dos-vias-hacia-la-autodeterminacion-del-movimiento
 -mapuche-2001-2021
END:VEVENT
BEGIN:VEVENT
UID:20260424T171909UTC-7406VrapbW@https://historia.uc.cl/
DTSTAMP:20260424T171909Z
DESCRIPTION:Seminario interno de Estudiantes 2021\nProgramas de Postgrado -
  Instituto de Historia\nViernes 15 de octubre\n&nbsp\;\nDefiniciones y gir
 os conceptuales\, 10:00 hrs.\nPresentan:\nCamilo Carreño (Magíster)\n“¿Qui
 énes eran los indios? Letrados y sus visiones sobre los indios\, 1776-1820
 ”.\nDiego Escobedo (Magíster)\n“La segunda independencia: giros conceptual
 es de una lucha continental en Chile. 1970-1980”\n https://historia.uc.cl/
 agenda/calendario/evento/49-seminario-interno-de-estudiantes-2021
DTSTART:20211015T100000Z
DTEND:20211015T120000Z
LOCATION:Online ()
SUMMARY:Seminario interno de Estudiantes 2021
URL:https://historia.uc.cl/agenda/calendario/evento/49-seminario-interno-de
 -estudiantes-2021
END:VEVENT
BEGIN:VEVENT
UID:20260424T171909UTC-7410XtT7N1@https://historia.uc.cl/
DTSTAMP:20260424T171909Z
DESCRIPTION:Este sábado\, 16 de octubre\, cerraremos el ciclo 'Economía en 
 tiempo de exploraciones científicas. América Latina en los siglos XVIII y 
 XIX'\, con la participación de&nbsp\;Xabier Lamikiz Gorostiaga\, en la ses
 ión 'Sobre la historicidad de las redes comerciales: comerciantes\, instit
 uciones económicas y organización de los intercambios en el Atlántico hisp
 ánico durante el siglo XVIII'.&nbsp\;Xabier Lamikiz es doctor en Historia 
 por la Royal Holloway-University of London (2006). Su directora de tesis f
 ue Penelope Corfield. Disfrutó de una beca postdoctoral en la University C
 ollege London (2008-2009) con Julian Hoppit como mentor. Desde 2012 es pro
 fesor de Historia Económica en la Universidad del País Vasco y\, en la act
 ualidad\, trabaja en un proyecto que explora las vertientes económicas y c
 ulturales de la Carrera de Indias en el siglo XVII.A manera de lectura sug
 erida para la sesión\, compartimos el artículo 'Social Capital\, Networks 
 and Trust in Early Modern Trade: A Critical Appraisal'\nSábado 16 de octub
 re\, 12:00 hrs.&nbsp\;\nLink directo a la reunión por ZOOM&nbsp\;\n\n&nbsp
 \; https://historia.uc.cl/agenda/calendario/evento/63-cierre-del-ciclo-eco
 nomia-en-tiempo-de-exploraciones-cientificas-america-latina-en-los-siglos-
 xviii-y-xix
DTSTART:20211016T120000Z
DTEND:20211016T140000Z
LOCATION:Online ()
SUMMARY:Cierre  del ciclo 'Economía en tiempo de exploraciones científicas.
  América Latina en los siglos XVIII y XIX'
URL:https://historia.uc.cl/agenda/calendario/evento/63-cierre-del-ciclo-eco
 nomia-en-tiempo-de-exploraciones-cientificas-america-latina-en-los-siglos-
 xviii-y-xix
END:VEVENT
END:VCALENDAR
