BEGIN:VCALENDAR
VERSION:2.0
PRODID:-//https://historia.uc.cl///NONSGML kigkonsult.se iCalcreator 2.10.15//
METHOD:PUBLISH
BEGIN:VEVENT
UID:20260424T115923UTC-3529oExoUv@https://historia.uc.cl/
DTSTAMP:20260424T115923Z
DESCRIPTION:Charla Informativa Postgrado en Historia UC Admisión 2022\nMart
 es 19 de octubre 2021 14:00 hrs. &nbsp\;Doctorado en Historia 15:30 hrs. M
 agister en Historia\nVía Zoom INSCRIPCIONES AQUÍ\n&nbsp\;\n https://histor
 ia.uc.cl/agenda/calendario/evento/41-charla-informativa-postgrado-en-histo
 ria
DTSTART;VALUE=DATE:20211019
LOCATION:Online ()
SUMMARY:Charla Informativa Postgrado en Historia 
URL:https://historia.uc.cl/agenda/calendario/evento/41-charla-informativa-p
 ostgrado-en-historia
END:VEVENT
BEGIN:VEVENT
UID:20260424T115923UTC-35362gw3SD@https://historia.uc.cl/
DTSTAMP:20260424T115923Z
DESCRIPTION:Expo Virtual Futuro Novato y Novata UC 2022\,&nbsp\;es una feri
 a en la que los postulantes a las instituciones de educación superior tien
 en la posibilidad de conocer a fondo todas las carreras que se imparten en
  nuestra&nbsp\;&nbsp\;Universidad\, a través de testimonios e información 
 entregada por alumnas y alumnos\, junto a profesoras&nbsp\;y profesores UC
 .\nEntre las actividades que se realizan se encuentran Tours virtuales a l
 as carreras\, charlas informativas tanto académicas como de beneficios soc
 ioeconómicos... y mucho más.&nbsp\;Desde el lunes 18 al viernes 22 de octu
 bre\, de lunes a jueves: 9:00 a 17:00 horas\; viernes: 9:00 a 13:00 horas.
 &nbsp\;\nEn este importante evento están presentes todas las unidades que 
 se relacionan con los alumnos y que hacen que estudiar en la UC sea una ex
 periencia única\, tanto a nivel académico como en lo relacionado con activ
 idades extraprogramáticas y vida universitaria.\nTe esperamos en el stand 
 virtual de nuestra Facultad\, donde podrás conversar con nuestros estudian
 tes\, aclarar tus dudas y &nbsp\;asistir a las clases magistrales de nuest
 ras profesoras y profesores\,&nbsp\; en las que podrás participar y tambié
 n seguir a través del canal de&nbsp\;Youtube de nuestra Facultad.\nPara pa
 rticpar en la&nbsp\;Expo Virtual Futuro Novato y Novata UC 2022\, inscríbe
 te&nbsp\;ACÁ&nbsp\;\nMartes 19 de octubre\n11:00 hrs. Conversando con Hist
 oria. Profesora&nbsp\;María José Cot\n https://historia.uc.cl/agenda/calen
 dario/evento/51-expo-virtual-futuro-novato-y-novata-uc-2022
DTSTART:20211018T090000Z
DTEND:20211022T130000Z
LOCATION:Online ()
SUMMARY:Expo Virtual Futuro Novato y Novata UC 2022
URL:https://historia.uc.cl/agenda/calendario/evento/51-expo-virtual-futuro-
 novato-y-novata-uc-2022
END:VEVENT
BEGIN:VEVENT
UID:20260424T115923UTC-3545Cp9eSm@https://historia.uc.cl/
DTSTAMP:20260424T115923Z
DESCRIPTION:Expo Virtual Futuro Novato y Novata UC 2022\,&nbsp\;es una feri
 a en la que los postulantes a las instituciones de educación superior tien
 en la posibilidad de conocer a fondo todas las carreras que se imparten en
  nuestra&nbsp\;&nbsp\;Universidad\, a través de testimonios e información 
 entregada por alumnas y alumnos\, junto a profesoras&nbsp\;y profesores UC
 .\nEntre las actividades que se realizan se encuentran Tours virtuales a l
 as carreras\, charlas informativas tanto académicas como de beneficios soc
 ioeconómicos... y mucho más.&nbsp\;Desde el lunes 18 al viernes 22 de octu
 bre\, de lunes a jueves: 9:00 a 17:00 horas\; viernes: 9:00 a 13:00 horas.
 &nbsp\;\nEn este importante evento están presentes todas las unidades que 
 se relacionan con los alumnos y que hacen que estudiar en la UC sea una ex
 periencia única\, tanto a nivel académico como en lo relacionado con activ
 idades extraprogramáticas y vida universitaria.\nTe esperamos en el stand 
 virtual de nuestra Facultad\, donde podrás conversar con nuestros estudian
 tes\, aclarar tus dudas y &nbsp\;asistir a las clases magistrales de nuest
 ras profesoras y profesores\,&nbsp\; en las que podrás participar y tambié
 n seguir a través del canal de&nbsp\;Youtube de nuestra Facultad.\nPara pa
 rticpar en la&nbsp\;Expo Virtual Futuro Novato y Novata UC 2022\, inscríbe
 te&nbsp\;ACÁ&nbsp\;\nMartes 19 de octubre\n11:00 hrs. Conversando con Hist
 oria. Profesora&nbsp\;María José Cot\n https://historia.uc.cl/agenda/calen
 dario/evento/55-expo-virtual-futuro-novato-y-novata-uc-2022
DTSTART:20211019T090000Z
DTEND:20211023T130000Z
LOCATION:Online ()
SUMMARY:Expo Virtual Futuro Novato y Novata UC 2022
URL:https://historia.uc.cl/agenda/calendario/evento/55-expo-virtual-futuro-
 novato-y-novata-uc-2022
END:VEVENT
BEGIN:VEVENT
UID:20260424T115923UTC-3552jGuoLl@https://historia.uc.cl/
DTSTAMP:20260424T115923Z
DESCRIPTION:Expo Virtual Futuro Novato y Novata UC 2022\,&nbsp\;es una feri
 a en la que los postulantes a las instituciones de educación superior tien
 en la posibilidad de conocer a fondo todas las carreras que se imparten en
  nuestra&nbsp\;&nbsp\;Universidad\, a través de testimonios e información 
 entregada por alumnas y alumnos\, junto a profesoras&nbsp\;y profesores UC
 .\nEntre las actividades que se realizan se encuentran Tours virtuales a l
 as carreras\, charlas informativas tanto académicas como de beneficios soc
 ioeconómicos... y mucho más.&nbsp\;Desde el lunes 18 al viernes 22 de octu
 bre\, de lunes a jueves: 9:00 a 17:00 horas\; viernes: 9:00 a 13:00 horas.
 &nbsp\;\nEn este importante evento están presentes todas las unidades que 
 se relacionan con los alumnos y que hacen que estudiar en la UC sea una ex
 periencia única\, tanto a nivel académico como en lo relacionado con activ
 idades extraprogramáticas y vida universitaria.\nTe esperamos en el stand 
 virtual de nuestra Facultad\, donde podrás conversar con nuestros estudian
 tes\, aclarar tus dudas y &nbsp\;asistir a las clases magistrales de nuest
 ras profesoras y profesores\,&nbsp\; en las que podrás participar y tambié
 n seguir a través del canal de&nbsp\;Youtube de nuestra Facultad.\nPara pa
 rticpar en la&nbsp\;Expo Virtual Futuro Novato y Novata UC 2022\, inscríbe
 te&nbsp\;ACÁ&nbsp\;\nMartes 19 de octubre\n11:00 hrs. Conversando con Hist
 oria. Profesora&nbsp\;María José Cot\n https://historia.uc.cl/agenda/calen
 dario/evento/57-expo-virtual-futuro-novato-y-novata-uc-2022
DTSTART:20211020T090000Z
DTEND:20211024T130000Z
LOCATION:Online ()
SUMMARY:Expo Virtual Futuro Novato y Novata UC 2022
URL:https://historia.uc.cl/agenda/calendario/evento/57-expo-virtual-futuro-
 novato-y-novata-uc-2022
END:VEVENT
BEGIN:VEVENT
UID:20260424T115923UTC-3560awJPEL@https://historia.uc.cl/
DTSTAMP:20260424T115923Z
DESCRIPTION:Expo Virtual Futuro Novato y Novata UC 2022\,&nbsp\;es una feri
 a en la que los postulantes a las instituciones de educación superior tien
 en la posibilidad de conocer a fondo todas las carreras que se imparten en
  nuestra&nbsp\;&nbsp\;Universidad\, a través de testimonios e información 
 entregada por alumnas y alumnos\, junto a profesoras&nbsp\;y profesores UC
 .\nEntre las actividades que se realizan se encuentran Tours virtuales a l
 as carreras\, charlas informativas tanto académicas como de beneficios soc
 ioeconómicos... y mucho más.&nbsp\;Desde el lunes 18 al viernes 22 de octu
 bre\, de lunes a jueves: 9:00 a 17:00 horas\; viernes: 9:00 a 13:00 horas.
 &nbsp\;\nEn este importante evento están presentes todas las unidades que 
 se relacionan con los alumnos y que hacen que estudiar en la UC sea una ex
 periencia única\, tanto a nivel académico como en lo relacionado con activ
 idades extraprogramáticas y vida universitaria.\nTe esperamos en el stand 
 virtual de nuestra Facultad\, donde podrás conversar con nuestros estudian
 tes\, aclarar tus dudas y &nbsp\;asistir a las clases magistrales de nuest
 ras profesoras y profesores\,&nbsp\; en las que podrás participar y tambié
 n seguir a través del canal de&nbsp\;Youtube de nuestra Facultad.\nPara pa
 rticpar en la&nbsp\;Expo Virtual Futuro Novato y Novata UC 2022\, inscríbe
 te&nbsp\;ACÁ&nbsp\;\nMartes 19 de octubre\n11:00 hrs. Conversando con Hist
 oria. Profesora&nbsp\;María José Cot\n https://historia.uc.cl/agenda/calen
 dario/evento/59-expo-virtual-futuro-novato-y-novata-uc-2022
DTSTART:20211021T090000Z
DTEND:20211025T130000Z
LOCATION:Online ()
SUMMARY:Expo Virtual Futuro Novato y Novata UC 2022
URL:https://historia.uc.cl/agenda/calendario/evento/59-expo-virtual-futuro-
 novato-y-novata-uc-2022
END:VEVENT
BEGIN:VEVENT
UID:20260424T115923UTC-3568bEVTd5@https://historia.uc.cl/
DTSTAMP:20260424T115923Z
DESCRIPTION:Expo Virtual Futuro Novato y Novata UC 2022\,&nbsp\;es una feri
 a en la que los postulantes a las instituciones de educación superior tien
 en la posibilidad de conocer a fondo todas las carreras que se imparten en
  nuestra&nbsp\;&nbsp\;Universidad\, a través de testimonios e información 
 entregada por alumnas y alumnos\, junto a profesoras&nbsp\;y profesores UC
 .\nEntre las actividades que se realizan se encuentran Tours virtuales a l
 as carreras\, charlas informativas tanto académicas como de beneficios soc
 ioeconómicos... y mucho más.&nbsp\;Desde el lunes 18 al viernes 22 de octu
 bre\, de lunes a jueves: 9:00 a 17:00 horas\; viernes: 9:00 a 13:00 horas.
 &nbsp\;\nEn este importante evento están presentes todas las unidades que 
 se relacionan con los alumnos y que hacen que estudiar en la UC sea una ex
 periencia única\, tanto a nivel académico como en lo relacionado con activ
 idades extraprogramáticas y vida universitaria.\nTe esperamos en el stand 
 virtual de nuestra Facultad\, donde podrás conversar con nuestros estudian
 tes\, aclarar tus dudas y &nbsp\;asistir a las clases magistrales de nuest
 ras profesoras y profesores\,&nbsp\; en las que podrás participar y tambié
 n seguir a través del canal de&nbsp\;Youtube de nuestra Facultad.\nPara pa
 rticpar en la&nbsp\;Expo Virtual Futuro Novato y Novata UC 2022\, inscríbe
 te&nbsp\;ACÁ&nbsp\;\nMartes 19 de octubre\n11:00 hrs. Conversando con Hist
 oria. Profesora&nbsp\;María José Cot\n https://historia.uc.cl/agenda/calen
 dario/evento/61-expo-virtual-futuro-novato-y-novata-uc-2022
DTSTART:20211022T090000Z
DTEND:20211026T130000Z
LOCATION:Online ()
SUMMARY:Expo Virtual Futuro Novato y Novata UC 2022
URL:https://historia.uc.cl/agenda/calendario/evento/61-expo-virtual-futuro-
 novato-y-novata-uc-2022
END:VEVENT
END:VCALENDAR
