BEGIN:VCALENDAR
VERSION:2.0
PRODID:-//https://historia.uc.cl///NONSGML kigkonsult.se iCalcreator 2.10.15//
METHOD:PUBLISH
BEGIN:VEVENT
UID:20260424T073348UTC-2665sC2jfi@https://historia.uc.cl/
DTSTAMP:20260424T073348Z
DESCRIPTION:Defensa de Magíster de Margarita Goldflam&nbsp\;\nEl Instituto 
 de Historia les invita a la defensa pública de la Tesis de Magister de la 
 estudiante Margarita Goldflam Leiva:\nLa salud materna en Chile\, 1973-199
 0\nMartes 02 de noviembre\, 202115:30 hrs.\n\n&nbsp\; https://historia.uc.
 cl/agenda/calendario/evento/69-defensa-de-magister-de-margarita-goldflam
DTSTART:20211102T153000Z
DTEND:20211102T170000Z
LOCATION:Sala Seminario de la Facultad de Historia\, Geografía y Ciencia Po
 lítica ()
SUMMARY:Defensa de Magíster de Margarita Goldflam 
URL:https://historia.uc.cl/agenda/calendario/evento/69-defensa-de-magister-
 de-margarita-goldflam
END:VEVENT
END:VCALENDAR
