BEGIN:VCALENDAR
VERSION:2.0
PRODID:-//https://historia.uc.cl///NONSGML kigkonsult.se iCalcreator 2.10.15//
METHOD:PUBLISH
BEGIN:VEVENT
UID:20260424T073348UTC-2780tocbUm@https://historia.uc.cl/
DTSTAMP:20260424T073348Z
DESCRIPTION:Residencias en Historia\nGertrudis Payàs (Universidad Católica 
 de Temuco)\n'Desafíos de la traducción e interpretación en la Convención C
 onstitucional'\n&nbsp\;\nMiércoles 10 de noviembre\, 202117:00 hrs. Vía Zo
 om\nInscríbete ACÁ&nbsp\;\n\n&nbsp\; https://historia.uc.cl/agenda/calenda
 rio/evento/67-residencias-en-historia-gertrudis-payas
DTSTART:20211110T170000Z
DTEND:20211110T190000Z
LOCATION:Online ()
SUMMARY:Residencias en Historia: Gertrudis Payàs 
URL:https://historia.uc.cl/agenda/calendario/evento/67-residencias-en-histo
 ria-gertrudis-payas
END:VEVENT
BEGIN:VEVENT
UID:20260424T073348UTC-2786ZUjvCg@https://historia.uc.cl/
DTSTAMP:20260424T073348Z
DESCRIPTION:Puerto de IdeasRafael Sagredo&nbsp\;'Un día histórico como cual
 quiera 8 de agosto de 1828'\nEl acontecimiento tendría influencia en todo 
 el país\, incluso entre quienes estaban al margen de eventos de tal natura
 leza. Su impacto se prolongaría en el tiempo de manera más profunda y dire
 cta que los sucesos que\, desenvolviéndose desde hacía años\, lo habían de
 sencadenado y explican.&nbsp\;\nAunque algunos lo consideraron “el momento
  en que…”\, otorgándole así un carácter germinal\, para la mayor parte de 
 la población la fecha pasó desapercibida. Fue una jornada como cualquiera 
 pues\, en definitiva\, solo el acaecer posterior y en el contexto que hoy 
 vivimos hacen posible su consideración como hecho histórico.&nbsp\;\nUn dí
 a\, un mes\, doce meses\, una historia representada en el viernes 8 de ago
 sto de 1828 es la que nos acercará a la vida cotidiana en el país en un añ
 o como cualquier otro. Experiencias aparentemente ajenas a los eventos pol
 íticos que se producían\, pero que forman parte de los hechos que culminar
 on con una manifestación pública e institucional que\, expresando la volun
 tad soberana de la comunidad en proceso de organización\, la situó ante al
 ternativas para su constitución republicana que han pasado a la historia.
 \n https://historia.uc.cl/agenda/calendario/evento/73-puerto-de-ideas-rafa
 el-sagredo-un-dia-historico-como-cualquiera-8-de-agosto-de-1828
DTSTART:20211112T183000Z
DTEND:20211112T200000Z
LOCATION:Espacio Brasil (Av Blanco 1702)
SUMMARY:Puerto de Ideas: Rafael Sagredo 'Un día histórico como cualquiera. 
 8 de agosto de 1828'
URL:https://historia.uc.cl/agenda/calendario/evento/73-puerto-de-ideas-rafa
 el-sagredo-un-dia-historico-como-cualquiera-8-de-agosto-de-1828
END:VEVENT
BEGIN:VEVENT
UID:20260424T073348UTC-2791DKU6ge@https://historia.uc.cl/
DTSTAMP:20260424T073348Z
DESCRIPTION:\nPuerto de Ideas\nSol Serrano&nbsp\;'Los matices de la Histori
 a'\n\nSu tópico más desarrollado es la historia de la educación en Chile\,
  pero además\, Sol Serrano ha contribuido con importantes trabajos e inves
 tigaciones en diversas áreas. La autora de valiosos libros como&nbsp\;El l
 iceo. Relato\, memoria y política\, donde fundamenta la importancia de la 
 institución en el siglo XX\, y coautora de los tres tomos de&nbsp\;Histori
 a de la educación en Chile&nbsp\;(1810-2010)\, logró en 2018 ser la primer
 a mujer reconocida con el Premio Nacional de Historia por “su aporte a la 
 historiografía nacional en ámbitos relevantes\, como la formación de Estad
 o en el siglo XX\, las trayectorias políticas e institucionales\, y la his
 toria de la educación”.&nbsp\;\nEn esta actividad\, Sol Serrano conversará
  con el destacado entrevistador Daniel Hopenhayn\, sobre el oficio e impor
 tancia de la historia y cómo a través de ésta podemos intentar respuestas\
 , diálogos y reflexiones en tiempos de cambio y nuevas discusiones en torn
 o a la sociedad.&nbsp\;\n https://historia.uc.cl/agenda/calendario/evento/
 75-puerto-de-ideas-sol-serrano-los-matices-de-la-historia
DTSTART:20211114T100000Z
DTEND:20211114T123000Z
LOCATION:Paseo Yugoslavo (Plaza Joaquín Edwards Bello\, cerro Alegre)
SUMMARY:Puerto de Ideas: Sol Serrano 'Los matices de la Historia'
URL:https://historia.uc.cl/agenda/calendario/evento/75-puerto-de-ideas-sol-
 serrano-los-matices-de-la-historia
END:VEVENT
BEGIN:VEVENT
UID:20260424T073348UTC-2795TAaW5C@https://historia.uc.cl/
DTSTAMP:20260424T073348Z
DESCRIPTION:La Coordinación de Asuntos Estudiantiles de nuestra Facultad re
 alizará una serie de actividades en la “Semana de Bienestar y Encuentro”: 
 taller\, seminario web\, conversatorio con profesores y profesoras de los 
 tres institutos y concursos.\nEstos eventos\, pensados en responder a las 
 inquietudes y desafíos que enfrentan nuestros estudiantes de pregrado\, es
 tán organizados para el&nbsp\;lunes 8 y miércoles 10 de noviembre.\nPARA P
 ARTICIPAR DE ESTAS ACTIVIDADES SOLO DEBES REGISTRARTE&nbsp\;ACÁ\n\n&nbsp\;
 \n https://historia.uc.cl/agenda/calendario/evento/77-semana-de-bienestar-
 y-encuentro
DTSTART;VALUE=DATE:20211108
LOCATION:Online ()
SUMMARY:Semana de Bienestar y Encuentro
URL:https://historia.uc.cl/agenda/calendario/evento/77-semana-de-bienestar-
 y-encuentro
END:VEVENT
BEGIN:VEVENT
UID:20260424T073348UTC-2800K07np0@https://historia.uc.cl/
DTSTAMP:20260424T073348Z
DESCRIPTION:La Coordinación de Asuntos Estudiantiles de nuestra Facultad re
 alizará una serie de actividades en la “Semana de Bienestar y Encuentro”: 
 taller\, seminario web\, conversatorio con profesores y profesoras de los 
 tres institutos y concursos.\nEstos eventos\, pensados en responder a las 
 inquietudes y desafíos que enfrentan nuestros estudiantes de pregrado\, es
 tán organizados para el&nbsp\;lunes 8 y miércoles 10 de noviembre.\nPARA P
 ARTICIPAR DE ESTAS ACTIVIDADES SOLO DEBES REGISTRARTE&nbsp\;ACÁ\n\n&nbsp\;
 \n https://historia.uc.cl/agenda/calendario/evento/81-semana-de-bienestar-
 y-encuentro
DTSTART;VALUE=DATE:20211110
LOCATION:Online ()
SUMMARY: Semana de Bienestar y Encuentro
URL:https://historia.uc.cl/agenda/calendario/evento/81-semana-de-bienestar-
 y-encuentro
END:VEVENT
BEGIN:VEVENT
UID:20260424T073348UTC-280375DV2N@https://historia.uc.cl/
DTSTAMP:20260424T073348Z
DESCRIPTION:I Coloquio Internacional Macrohistoria y Mundo Actual en Histor
 ia Global desde América Latina.\nMás de veinte ponencias\, dos conferencia
 s magistrales y una sesión de networking integran la programación del I Co
 loquio Internacional Macrohistoria y Mundo Actual en Historia Global desde
  América Latina. El ciclo de conferencias Macrohistoria y el mundo actual\
 , con el apoyo de la Facultad de Filosofía y Letras\, UNAM y el Programa d
 e Postgrado del Instituto de Historia\, Universidad Católica de Chile\, du
 rante los días 9\, 10 y 11 de noviembre\, habilitarán un espacio para cono
 cer las temáticas\, metodologías y perspectivas de investigación en Histor
 ia Global desarrolladas en la región.\nPara participar inscíbete ACÁ&nbsp\
 ;\nProgramación completa ACÁ\n&nbsp\;\n&nbsp\; https://historia.uc.cl/agen
 da/calendario/evento/83-i-coloquio-internacional-macrohistoria-y-mundo-act
 ual-en-historia-global-desde-america-latina
DTSTART:20211109T203200Z
DTEND:20211111T180000Z
LOCATION:Online ()
SUMMARY: I Coloquio Internacional Macrohistoria y Mundo Actual en Historia 
 Global desde América Latina
URL:https://historia.uc.cl/agenda/calendario/evento/83-i-coloquio-internaci
 onal-macrohistoria-y-mundo-actual-en-historia-global-desde-america-latina
END:VEVENT
END:VCALENDAR
