BEGIN:VCALENDAR
VERSION:2.0
PRODID:-//https://historia.uc.cl///NONSGML kigkonsult.se iCalcreator 2.10.15//
METHOD:PUBLISH
BEGIN:VEVENT
UID:20260424T104443UTC-3261mArkEO@https://historia.uc.cl/
DTSTAMP:20260424T104443Z
DESCRIPTION:Cátedra Italo Calvino 2021 Barbara Carnevali École des Hautes É
 tudes en Sciences Sociales\, Paris.\n'Una modernidad ligera: la industrial
 ización italiana y el diseño (1950-1965)':: Inscripciones AQUÍ\nOrganizan:
  Facultad de Letras Facultad de Historia\, Geografía y Ciencia Política Vi
 cerrectoría de Investigación https://historia.uc.cl/agenda/calendario/even
 to/71-catedra-italo-calvino-2021-barbara-carnevali-ecole-des-hautes-etudes
 -en-sciences-sociales-paris
DTSTART:20211119T113000Z
DTEND:20211119T130000Z
LOCATION:Online ()
SUMMARY:Cátedra Italo Calvino 2021: Barbara Carnevali  (École des Hautes Ét
 udes en Sciences Sociales\, Paris)
URL:https://historia.uc.cl/agenda/calendario/evento/71-catedra-italo-calvin
 o-2021-barbara-carnevali-ecole-des-hautes-etudes-en-sciences-sociales-pari
 s
END:VEVENT
BEGIN:VEVENT
UID:20260424T104443UTC-3267GMtphu@https://historia.uc.cl/
DTSTAMP:20260424T104443Z
DESCRIPTION:El Centro UC de Estudios Asiáticos les invita a una nueva sesió
 n de nuestro seminario de investigación a realizarse el próximo&nbsp\;miér
 coles 17 de noviembre a las 14:00 horas&nbsp\;(GMT-3\, Santiago de Chile) 
 vía conferencia en línea por la Plataforma Zoom.\nExpone María Montt\, pro
 fesora asistente del Instituto de Historia UC\, y miembro del Centro de Es
 tudios Asiáticos UC\, el&nbsp\;tema “Viajeros chilenos a Chila durante la 
 Guerra Fría” (ANID Fondecyt Iniciación 11200151).\nInscripciones ACÁ&nbsp\
 ;\nConsultas:&nbsp\;ceauc@uc.cl.\n¡Esperamos contar con su participación!
 \n&nbsp\;\n https://historia.uc.cl/agenda/calendario/evento/85-seminario-d
 e-investigacion-viajeros-chilenos-a-china-durante-la-guerra-fria-anid-fond
 ecyt-iniciacion-11200151
DTSTART:20211117T140000Z
DTEND:20211117T153000Z
LOCATION:Online ()
SUMMARY:Seminario de Investigación: 'Viajeros chilenos a China durante la G
 uerra Fría' (ANID Fondecyt Iniciación 11200151)
URL:https://historia.uc.cl/agenda/calendario/evento/85-seminario-de-investi
 gacion-viajeros-chilenos-a-china-durante-la-guerra-fria-anid-fondecyt-inic
 iacion-11200151
END:VEVENT
END:VCALENDAR
