BEGIN:VCALENDAR
VERSION:2.0
PRODID:-//https://historia.uc.cl///NONSGML kigkonsult.se iCalcreator 2.10.15//
METHOD:PUBLISH
BEGIN:VEVENT
UID:20260424T091106UTC-8578eXMsRa@https://historia.uc.cl/
DTSTAMP:20260424T091106Z
DESCRIPTION:Defensa de Magíster de Cristóbal Hernández\nEl Instituto de His
 toria les invita a la defensa pública de la Tesis de Magister del estudian
 te Cristóbal Hernández:&nbsp\;\nPatria Proscrita. Redes transnacionales y 
 radicalización ideológica del exilio chileno en Lima (1852-1864)\nMiércole
 s 24 de noviembre\, 202110:00 hrs.&nbsp\;\n https://historia.uc.cl/agenda/
 calendario/evento/87-defensa-de-magister-de-cristobal-hernandez
DTSTART:20211124T103000Z
DTEND:20211124T120000Z
LOCATION:Online ()
SUMMARY:Defensa de Magíster de Cristóbal Hernández
URL:https://historia.uc.cl/agenda/calendario/evento/87-defensa-de-magister-
 de-cristobal-hernandez
END:VEVENT
BEGIN:VEVENT
UID:20260424T091106UTC-8583G7SnKB@https://historia.uc.cl/
DTSTAMP:20260424T091106Z
DESCRIPTION:Defensa de Magíster de Diego Romero&nbsp\;\nEl Instituto de His
 toria les invita a la defensa pública de la Tesis de Magister del estudian
 te Diegor Romero:&nbsp\;\n“¡Una Reforma Agraria desde el Club de la Unión!
 ': El debate político y la gestación de la primera Ley de Reforma Agraria\
 , 1957-1962\nMartes&nbsp\;23 de noviembre de 202115:00 hrs.&nbsp\;\n https
 ://historia.uc.cl/agenda/calendario/evento/89-defensa-de-magister-de-diego
 -romero
DTSTART:20211123T150000Z
DTEND:20211123T163000Z
LOCATION:Sala Seminario de la Facultad de Historia\, Geografía y Ciencia Po
 lítica ()
SUMMARY:Defensa de Magíster de Diego Romero 
URL:https://historia.uc.cl/agenda/calendario/evento/89-defensa-de-magister-
 de-diego-romero
END:VEVENT
BEGIN:VEVENT
UID:20260424T091106UTC-85868eGGZT@https://historia.uc.cl/
DTSTAMP:20260424T091106Z
DESCRIPTION:¿Cuál era la situación de Hispanoamérica el año de la proclamac
 ión de la Independencia del Perú? ¿Por qué varios países ya habían logrado
  para entonces separarse de España? ¿De qué manera esas otras emancipacion
 es se relacionaban con el proceso peruano? Para responder a esas preguntas
 \, esta edición del coloquio va a examinar temas como la circulación de id
 eas políticas en la parte americana del Imperio español\, la formación de 
 identidades nacionales en esa vasta región\, y la actividad militar que co
 nectó personajes de diversas localidades del imperio. De ese modo\, se bus
 ca reflexionar sobre la complejidad de la Independencia americana\, la cua
 l contaba con elementos integradores pero también divisorios del territori
 o en el que empezaban a nacer los estados republicanos.\nNuestra profesora
  Lucrecia Enríquez participará el martes 23 con la ponencia&nbsp\;“El régi
 men de intendencias y el despertar de los pueblos chilenos a partir de 181
 0”.\n23\, 24 y 25 de noviembre\, vía Zoom\nInscríbete ACÁ\nDescargar el pr
 ograma completo ACÁ&nbsp\;\n&nbsp\;\n\n&nbsp\; https://historia.uc.cl/agen
 da/calendario/evento/93-coloquio-bicentenario-el-peru-y-los-procesos-de-in
 dependencia-en-hispanoamerica
DTSTART:20211123T110000Z
DTEND:20211125T170000Z
LOCATION:Online ()
SUMMARY:Coloquio Bicentenario “El Perú y los procesos de independencia en H
 ispanoamérica'
URL:https://historia.uc.cl/agenda/calendario/evento/93-coloquio-bicentenari
 o-el-peru-y-los-procesos-de-independencia-en-hispanoamerica
END:VEVENT
BEGIN:VEVENT
UID:20260424T091106UTC-8590oaHbjn@https://historia.uc.cl/
DTSTAMP:20260424T091106Z
DESCRIPTION:&nbsp\;\nXI jornadas “Ciencias sociales y religión”\n&nbsp\;\nN
 uestro profesor Stephan Ruderer participará como comentarista en el panel 
 “Sitios de memoria\, materialidades\, espectralidades y espiritualidades c
 ontemporáneas” dentro de la XI jornadas “Ciencias sociales y religión” en 
 Buenos Aires.\n&nbsp\;\nMiércoles 24 de noviembre\, 11 hrs. por el canal d
 e Youtube de CEIL Conicet Argentina\n&nbsp\;\nDescarga el programa complet
 o ACÁ&nbsp\;\n\n&nbsp\; https://historia.uc.cl/agenda/calendario/evento/95
 -xi-jornadas-ciencias-sociales-y-religion
DTSTART;VALUE=DATE:20211124
LOCATION:Online ()
SUMMARY: XI jornadas “Ciencias sociales y religión” 
URL:https://historia.uc.cl/agenda/calendario/evento/95-xi-jornadas-ciencias
 -sociales-y-religion
END:VEVENT
BEGIN:VEVENT
UID:20260424T091106UTC-8593XHu39s@https://historia.uc.cl/
DTSTAMP:20260424T091106Z
DESCRIPTION:Nuestro profesor Jaime Valenzuela participará como expositor&nb
 sp\;en el seminario&nbsp\;Entre los “lagos” españoles: Esclavitud y circul
 aciones\, siglos XVI-XVII\, junto a Bethany Aram (Universidad Pablo de Ola
 vide)\, Nelson Fernando González (Universidad del Norte) y&nbsp\;Adrian Ma
 sters (Eberhard Karls Universität Tübingen).&nbsp\;\nEsta actividad se rea
 lizará en la Universidad de París Sorbonne\nViernes 26 de noviembre9:00 a 
 12:30 hrs.\nSíguela en vivo ACÁ\nPara ver el programa completo del seminar
 io\, ingresa ACÁ&nbsp\;\n https://historia.uc.cl/agenda/calendario/evento/
 97-seminario-entre-los-lagos-espanoles-esclavitud-y-circulaciones-siglos-x
 vi-xvii
DTSTART:20211126T090000Z
DTEND:20211126T123000Z
LOCATION:Online ()
SUMMARY:Seminario Entre los “lagos” españoles: Esclavitud y circulaciones\,
  siglos XVI-XVII
URL:https://historia.uc.cl/agenda/calendario/evento/97-seminario-entre-los-
 lagos-espanoles-esclavitud-y-circulaciones-siglos-xvi-xvii
END:VEVENT
END:VCALENDAR
