BEGIN:VCALENDAR
VERSION:2.0
PRODID:-//https://historia.uc.cl///NONSGML kigkonsult.se iCalcreator 2.10.15//
METHOD:PUBLISH
BEGIN:VEVENT
UID:20260423T232029UTC-2060M4kSbv@https://historia.uc.cl/
DTSTAMP:20260423T232029Z
DESCRIPTION:Encuentros con DanteItinerarios\, retornos\, traducciones.&nbsp
 \;\nColoquio a propósito de los 700 años.&nbsp\;\n1 y 2 de diciembre\, 202
 110:00 y 15:00 hrs. Vía Zoom\n&nbsp\;\nDescarga el programa ACÁ&nbsp\;\nIn
 scripciones ACÁ&nbsp\;\n&nbsp\;\nOrganizan:Instituto de Historia UCEmbajad
 a de Italia en ChileInstituto Italiano de Cultura\nColaboran:Universidad A
 lberto HurtadoUniversidad de ChileUniversidad de Santiago de ChileUniversi
 dad Metropolitana de Ciencias de la EducaciónPontificia Universidad Católi
 ca de Valparaíso\n https://historia.uc.cl/agenda/calendario/evento/91-encu
 entros-con-dante
DTSTART:20211201T100000Z
DTEND:20211202T150000Z
LOCATION:Online ()
SUMMARY:Encuentros con Dante 
URL:https://historia.uc.cl/agenda/calendario/evento/91-encuentros-con-dante
END:VEVENT
BEGIN:VEVENT
UID:20260423T232029UTC-2065boi9bL@https://historia.uc.cl/
DTSTAMP:20260423T232029Z
DESCRIPTION:Conversatorio 'Onkel Günter: (Re)construcción de historias y me
 morias entre Chile y Alemania\n3 de diciembre 11:00 - 13:15 hrs. Vía Zoom
 \n11:00 - 12:00 Módulo 1: Problemas de reconstrucción de memoria histórica
 : el trabajo de archivos y el testimonio oral. Participan: Nancy Nicholls\
 , Stephan Ruderer\, Francisca Durán. Modera: Patricio Arriagada\n12:15 - 1
 3:15 Módulo 2: El trabajo audiovisual y cinematográfico de la memoria: Onk
 el Günter y otras producciones recientes. Participan: Juan Francisco Riuma
 lló\, Isabel Mardones\, María Angélica Franken. Modera: Wolfgang Bongers\n
 Para asistir inscríbete ACÁ&nbsp\;\n*Quienes se inscriban recibirán un lin
 k con acceso personal al documental Onkel Günter. Este acceso estará dispo
 nible durante los días previos al conversatorio.&nbsp\;Para acceder a ver 
 el documental\, usted previamente debe crear un usuario en la plataforma d
 e la Red de Salas de Cine de Chile\n https://historia.uc.cl/agenda/calenda
 rio/evento/99-conversatorio-onkel-guenter
DTSTART:20211203T110000Z
DTEND:20211203T131500Z
LOCATION:Online ()
SUMMARY:Conversatorio 'Onkel Günter' 
URL:https://historia.uc.cl/agenda/calendario/evento/99-conversatorio-onkel-
 guenter
END:VEVENT
BEGIN:VEVENT
UID:20260423T232029UTC-2069Sba4M5@https://historia.uc.cl/
DTSTAMP:20260423T232029Z
DESCRIPTION: https://historia.uc.cl/agenda/calendario/evento/105-examen-de-
 doctorado-antonia-fonck
DTSTART:20211203T103000Z
DTEND:20211206T120000Z
LOCATION:Sala Seminario de la Facultad de Historia\, Geografía y Ciencia Po
 lítica ()
SUMMARY:Exámen de doctorado: Antonia Fonck 
URL:https://historia.uc.cl/agenda/calendario/evento/105-examen-de-doctorado
 -antonia-fonck
END:VEVENT
END:VCALENDAR
