BEGIN:VCALENDAR
VERSION:2.0
PRODID:-//https://historia.uc.cl///NONSGML kigkonsult.se iCalcreator 2.10.15//
METHOD:PUBLISH
BEGIN:VEVENT
UID:20260423T232030UTC-2084jJWjnF@https://historia.uc.cl/
DTSTAMP:20260423T232030Z
DESCRIPTION:3º TALLER DE POSTGRADOPensar las “fronteras” en la investigació
 n:&nbsp\;Oportunidades\, experiencias\, perspectivas\, límites\n&nbsp\;\n&
 nbsp\;Conferencias:\nJoaquín Trujillo (CEP)Sergio González (UTA)\n&nbsp\;
 \nJueves 9 y Viernes 10 de diciembre\, 202109:00 horas\n&nbsp\;\nModalidad
  mixta: Zoom / Sala de Seminario Facultad de Historia\, Geografía y Cienci
 a Política\nDescarga el programa ACÁ&nbsp\;Inscripciones ACÁ&nbsp\;\n&nbsp
 \;\nOrganizan:\nEstudiantes de Postgrado en HistoriaInstituto de HistoriaP
 ontificia Universidad Católica de ChileDepartamento de HistoriaUniversidad
  de Concepción de ChileProgramas de Magíster y Doctorado en HistoriaUniver
 sidad de Tarapacá\n https://historia.uc.cl/agenda/calendario/evento/101-3-
 taller-de-postgrado
DTSTART:20211209T090000Z
DTEND:20211210T170000Z
LOCATION:Online ()
SUMMARY:3º TALLER DE POSTGRADO
URL:https://historia.uc.cl/agenda/calendario/evento/101-3-taller-de-postgra
 do
END:VEVENT
BEGIN:VEVENT
UID:20260423T232030UTC-2089VDnHz9@https://historia.uc.cl/
DTSTAMP:20260423T232030Z
DESCRIPTION:Lanzamiento del libro 'Historias para la ciudadanía'\, de Rafae
 l Sagredo\nCon motivo del lanzamiento del libro se realizará el Conversato
 rio 'Historias para la ciudadanía\, ¿un desafío para el presente?'\n&nbsp\
 ;\nJueves 9 de diciembre\, 19:00 hrs.Se transmitirá por el canal de Youtub
 e de Grupo SM Chile&nbsp\;\n&nbsp\;\n https://historia.uc.cl/agenda/calend
 ario/evento/103-lanzamiento-del-libro-historias-para-la-ciudadania-de-rafa
 el-sagredo
DTSTART:20211209T190000Z
DTEND:20211209T210000Z
LOCATION:Online ()
SUMMARY:Lanzamiento del libro 'Historias para la ciudadanía'\, de Rafael Sa
 gredo 
URL:https://historia.uc.cl/agenda/calendario/evento/103-lanzamiento-del-lib
 ro-historias-para-la-ciudadania-de-rafael-sagredo
END:VEVENT
BEGIN:VEVENT
UID:20260423T232030UTC-2092l36VKd@https://historia.uc.cl/
DTSTAMP:20260423T232030Z
DESCRIPTION: https://historia.uc.cl/agenda/calendario/evento/105-examen-de-
 doctorado-antonia-fonck
DTSTART:20211203T103000Z
DTEND:20211206T120000Z
LOCATION:Sala Seminario de la Facultad de Historia\, Geografía y Ciencia Po
 lítica ()
SUMMARY:Exámen de doctorado: Antonia Fonck 
URL:https://historia.uc.cl/agenda/calendario/evento/105-examen-de-doctorado
 -antonia-fonck
END:VEVENT
BEGIN:VEVENT
UID:20260423T232030UTC-2095GExa6E@https://historia.uc.cl/
DTSTAMP:20260423T232030Z
DESCRIPTION:Defensa Pública de la Tesis de Doctorado de Élodie Lebeau\nL’OD
 YSSÉE DU MUSÉE DE LA SOLIDARITÉ SALVADOR ALLENDE (1971-1991) : UNE HIST
 OIRE CULTURELLE TRANSNATIONALE DU CHILI\, DE L’UNITÉ POPULAIRE AU RETOUR 
 D’EXIL\n(LA ODISEA DEL MUSEO DE LA SOLIDARIDAD SALVADOR ALLENDE (1971-1991
 ): UNA HISTORIA CULTURAL TRANSNACIONAL DE CHILE\, DE LA UNIDAD POPULAR AL 
 REGRESO DEL EXILIO)\n&nbsp\;\nViernes 10 de diciembre de 2021\n10:00 hrs (
 Chile Continental)\, en la Universidad de Toulouse 2 Jean-Jaurès\n&nbsp\;
 \n&nbsp\;\n https://historia.uc.cl/agenda/calendario/evento/107-defensa-pu
 blica-de-la-tesis-de-doctorado-de-elodie-lebeau
DTSTART:20211210T100000Z
DTEND:20211210T120000Z
LOCATION:Online ()
SUMMARY:Defensa Pública de la Tesis de Doctorado de Élodie Lebeau
URL:https://historia.uc.cl/agenda/calendario/evento/107-defensa-publica-de-
 la-tesis-de-doctorado-de-elodie-lebeau
END:VEVENT
BEGIN:VEVENT
UID:20260423T232030UTC-2099hunu5P@https://historia.uc.cl/
DTSTAMP:20260423T232030Z
DESCRIPTION:Nuestra profesora Lucrecia Enríquez participará en el&nbsp\;37 
 Congreso Internacional de Historia Regional - UAS\,&nbsp\; quien disertará
  la conferencia magistral: 'Soberanía e Independencia en Chile (1810-1818)
 '.\nViernes 10 de diciembre&nbsp\; 13:00 hrs.&nbsp\;\nSe transmitirá por F
 acebook Live&nbsp\; y el canal de YouTube del Congreso.&nbsp\;\nOrganiza l
 a Facultad de Historia de la Universidad Autónoma de Sinaloa&nbsp\;\n&nbsp
 \;\n https://historia.uc.cl/agenda/calendario/evento/109-soberania-e-indep
 endencia-en-chile-1810-1818
DTSTART:20211210T130000Z
DTEND:20211210T143000Z
LOCATION:Online ()
SUMMARY:Soberanía e Independencia en Chile (1810-1818)
URL:https://historia.uc.cl/agenda/calendario/evento/109-soberania-e-indepen
 dencia-en-chile-1810-1818
END:VEVENT
END:VCALENDAR
