BEGIN:VCALENDAR
VERSION:2.0
PRODID:-//https://historia.uc.cl///NONSGML kigkonsult.se iCalcreator 2.10.15//
METHOD:PUBLISH
BEGIN:VEVENT
UID:20260424T040621UTC-1486e2H5NU@https://historia.uc.cl/
DTSTAMP:20260424T040621Z
DESCRIPTION:Charla '1993: un año de inflexión'\nEXPONE\nFernando Pairican A
 cadémico de la Escuela de Antropología UC y del Instituto de Historia UC I
 nvestigador CIIR\nCOMENTA\nClaudia Zapata Silva Directora Centro de Estudi
 os Culturales Latinoamericanos Facultad de Filosofía y Humanidades Univers
 idad de Chile\nMiércoles 15 de diciembre\, 202117:00 horas Formato Híbrid
 oSala C305 Campus San Joaquín:: INSCRIPCIONES AQUÍ https://historia.uc.cl/
 agenda/calendario/evento/113-charla-1993-un-ano-de-inflexion
DTSTART;VALUE=DATE:20211215
LOCATION:Online ()
SUMMARY:Charla '1993: un año de inflexión'
URL:https://historia.uc.cl/agenda/calendario/evento/113-charla-1993-un-ano-
 de-inflexion
END:VEVENT
BEGIN:VEVENT
UID:20260424T040621UTC-1495HwCorD@https://historia.uc.cl/
DTSTAMP:20260424T040621Z
DESCRIPTION:Defensa pública de la Tesis de Magister del estudiante Nicolás 
 López Cvitanic:\nDEL IMAGINARIO DE LA MODERNIDAD A LA RESISTENCIA AMBIENTA
 LISTA. REPRESENTACIONES SOCIALES DE LA HIDROELECTRICIDAD EN EL ESPACIO PÚB
 LICO CHILENO (1898-2021)\nViernes 17 de diciembreZoom/ Sala Seminario Facu
 ltad&nbsp\;15:00 hrs.&nbsp\;\n https://historia.uc.cl/agenda/calendario/ev
 ento/115-defensa-de-magister-de-nicolas-lopez
DTSTART:20211217T150000Z
DTEND:20211217T170000Z
LOCATION:ONLINE/SALA SEMINARIO ()
SUMMARY:Defensa de Magíster de Nicolás López 
URL:https://historia.uc.cl/agenda/calendario/evento/115-defensa-de-magister
 -de-nicolas-lopez
END:VEVENT
END:VCALENDAR
