BEGIN:VCALENDAR
VERSION:2.0
PRODID:-//https://historia.uc.cl///NONSGML kigkonsult.se iCalcreator 2.10.15//
METHOD:PUBLISH
BEGIN:VEVENT
UID:20260423T232025UTC-1845kTEnuF@https://historia.uc.cl/
DTSTAMP:20260423T232025Z
DESCRIPTION:Conversatorio Post Elecciones:&nbsp\;Visiones desde la Historia
 \, Geografía y Ciencia Política\nDirigido a: Toda la Comunidad de la Facul
 tad (Estudiantes\, funcionarias y funcionarios\, profesoras y profesores)
 \nCuándo: Martes 21 de Diciembre\, 11.00 horas\nDónde: Online por Zoom\,&n
 bsp\;acá&nbsp\;\n&nbsp\;\n https://historia.uc.cl/agenda/calendario/evento
 /117-conversatorio-post-elecciones
DTSTART:20211221T110000Z
DTEND:20211221T130000Z
LOCATION:Online ()
SUMMARY:Conversatorio Post Elecciones
URL:https://historia.uc.cl/agenda/calendario/evento/117-conversatorio-post-
 elecciones
END:VEVENT
END:VCALENDAR
